C# (CSharp) PostGreServerUtility.checkResults - 2 ejemplos encontrados. Estos son los ejemplos en C# (CSharp) del mundo real mejor valorados de PostGreServerUtility.checkResults extraídos de proyectos de código abierto. Puedes valorar ejemplos para ayudarnos a mejorar la calidad de los ejemplos.